BEGIN:VCALENDAR
VERSION:2.0
PRODID:-//La Fraternité Chrétienne Moutier - ECPv5.10.0//NONSGML v1.0//EN
CALSCALE:GREGORIAN
METHOD:PUBLISH
X-WR-CALNAME:La Fraternité Chrétienne Moutier
X-ORIGINAL-URL:https://lafrat-moutier.ch
X-WR-CALDESC:évènements pour La Fraternité Chrétienne Moutier
BEGIN:VTIMEZONE
TZID:Europe/Zurich
BEGIN:DAYLIGHT
TZOFFSETFROM:+0100
TZOFFSETTO:+0200
TZNAME:CEST
DTSTART:20260329T010000
END:DAYLIGHT
BEGIN:STANDARD
TZOFFSETFROM:+0200
TZOFFSETTO:+0100
TZNAME:CET
DTSTART:20261025T010000
END:STANDARD
END:VTIMEZONE
BEGIN:VEVENT
DTSTART;TZID=Europe/Zurich:20260628T091500
DTEND;TZID=Europe/Zurich:20260628T111500
DTSTAMP:20260420T193950
CREATED:20191214T191041Z
LAST-MODIFIED:20260328T084720Z
UID:9805-1782638100-1782645300@lafrat-moutier.ch
SUMMARY:Culte famille (café et jus)
DESCRIPTION:A 9h15\, nous nous retrouvons pour partager un café et un jus\, puis à 9h45\, le culte débutera. \n  \nLouage avec Elodie Thomi \nPrédication par Pierre-Michel Thomi \nLe culte famille signifie que le enfants participent au culte (pas de garderie). En effet\, le thème est adapté pour tous\, afin que chacun et chacune soit édifié. \n 
URL:https://lafrat-moutier.ch/?tribe_events=marathon-de-priere
LOCATION:Fraternité chrétienne\, Rue du Moulin 6\, Moutier\, 2740
END:VEVENT
END:VCALENDAR